BEGIN:VCALENDAR
VERSION:2.0
PRODID:-//Potsdamer Schachverein Mitte e.V. - ECPv6.15.13//NONSGML v1.0//EN
CALSCALE:GREGORIAN
METHOD:PUBLISH
X-WR-CALNAME:Potsdamer Schachverein Mitte e.V.
X-ORIGINAL-URL:http://psv-mitte.de
X-WR-CALDESC:Veranstaltungen für Potsdamer Schachverein Mitte e.V.
REFRESH-INTERVAL;VALUE=DURATION:PT1H
X-Robots-Tag:noindex
X-PUBLISHED-TTL:PT1H
BEGIN:VTIMEZONE
TZID:Europe/Berlin
BEGIN:DAYLIGHT
TZOFFSETFROM:+0100
TZOFFSETTO:+0200
TZNAME:CEST
DTSTART:20250330T010000
END:DAYLIGHT
BEGIN:STANDARD
TZOFFSETFROM:+0200
TZOFFSETTO:+0100
TZNAME:CET
DTSTART:20251026T010000
END:STANDARD
BEGIN:DAYLIGHT
TZOFFSETFROM:+0100
TZOFFSETTO:+0200
TZNAME:CEST
DTSTART:20260329T010000
END:DAYLIGHT
BEGIN:STANDARD
TZOFFSETFROM:+0200
TZOFFSETTO:+0100
TZNAME:CET
DTSTART:20261025T010000
END:STANDARD
BEGIN:DAYLIGHT
TZOFFSETFROM:+0100
TZOFFSETTO:+0200
TZNAME:CEST
DTSTART:20270328T010000
END:DAYLIGHT
BEGIN:STANDARD
TZOFFSETFROM:+0200
TZOFFSETTO:+0100
TZNAME:CET
DTSTART:20271031T010000
END:STANDARD
END:VTIMEZONE
BEGIN:VEVENT
DTSTART;VALUE=DATE:20260424
DTEND;VALUE=DATE:20260427
DTSTAMP:20260420T222908
CREATED:20260330T124141Z
LAST-MODIFIED:20260330T124141Z
UID:2206-1776988800-1777247999@psv-mitte.de
SUMMARY:Zentrale Endrunde der Bundesliga in Berlin
DESCRIPTION:
URL:http://psv-mitte.de/event/zentrale-endrunde-der-bundesliga-in-berlin/
LOCATION:Berlin
END:VEVENT
BEGIN:VEVENT
DTSTART;TZID=Europe/Berlin:20260424T170000
DTEND;TZID=Europe/Berlin:20260424T183000
DTSTAMP:20260420T222908
CREATED:20260330T114628Z
LAST-MODIFIED:20260330T114628Z
UID:2177-1777050000-1777055400@psv-mitte.de
SUMMARY:Jugendtraining
DESCRIPTION:
URL:http://psv-mitte.de/event/jugendtraining-2/
LOCATION:Potsdam
END:VEVENT
BEGIN:VEVENT
DTSTART;TZID=Europe/Berlin:20260424T183000
DTEND;TZID=Europe/Berlin:20260424T200000
DTSTAMP:20260420T222908
CREATED:20260330T114714Z
LAST-MODIFIED:20260330T114714Z
UID:2179-1777055400-1777060800@psv-mitte.de
SUMMARY:Blitzturnier für Mitglieder und Gäste
DESCRIPTION:
URL:http://psv-mitte.de/event/blitzturnier-fuer-mitglieder-und-gaeste/
LOCATION:Potsdam
END:VEVENT
BEGIN:VEVENT
DTSTART;TZID=Europe/Berlin:20260425T100000
DTEND;TZID=Europe/Berlin:20260425T170000
DTSTAMP:20260420T222908
CREATED:20260310T051656Z
LAST-MODIFIED:20260310T051656Z
UID:2135-1777111200-1777136400@psv-mitte.de
SUMMARY:19. Fredersdorfer Kinderschachturnier
DESCRIPTION:
URL:http://psv-mitte.de/event/19-fredersdorfer-kinderschachturnier/
LOCATION:Fredersdorf-Vogelsdorf
END:VEVENT
BEGIN:VEVENT
DTSTART;TZID=Europe/Berlin:20260426T090000
DTEND;TZID=Europe/Berlin:20260426T160000
DTSTAMP:20260420T222908
CREATED:20260201T184318Z
LAST-MODIFIED:20260201T184318Z
UID:2110-1777194000-1777219200@psv-mitte.de
SUMMARY:Landes-Pokal-Mannschaftsmeisterschaft 2025 / 2026
DESCRIPTION:
URL:http://psv-mitte.de/event/landes-pokal-mannschaftsmeisterschaft-2025-2026-2/
END:VEVENT
BEGIN:VEVENT
DTSTART;TZID=Europe/Berlin:20260508T170000
DTEND;TZID=Europe/Berlin:20260508T183000
DTSTAMP:20260420T222908
CREATED:20260330T114843Z
LAST-MODIFIED:20260330T114843Z
UID:2181-1778259600-1778265000@psv-mitte.de
SUMMARY:Jugendtraining
DESCRIPTION:
URL:http://psv-mitte.de/event/jugendtraining-3/
LOCATION:Potsdam
END:VEVENT
BEGIN:VEVENT
DTSTART;TZID=Europe/Berlin:20260508T180000
DTEND;TZID=Europe/Berlin:20260508T220000
DTSTAMP:20260420T222908
CREATED:20260330T114924Z
LAST-MODIFIED:20260330T114924Z
UID:2183-1778263200-1778277600@psv-mitte.de
SUMMARY:Spieleabend für Alle
DESCRIPTION:
URL:http://psv-mitte.de/event/spieleabend-fuer-alle-3/
END:VEVENT
BEGIN:VEVENT
DTSTART;VALUE=DATE:20260514
DTEND;VALUE=DATE:20260518
DTSTAMP:20260420T222908
CREATED:20260117T160532Z
LAST-MODIFIED:20260117T160532Z
UID:2054-1778716800-1779062399@psv-mitte.de
SUMMARY:13. Potsdamer Sommeropen
DESCRIPTION:
URL:http://psv-mitte.de/event/13-potsdamer-sommeropen/
LOCATION:Potsdam
END:VEVENT
BEGIN:VEVENT
DTSTART;VALUE=DATE:20260514
DTEND;VALUE=DATE:20260518
DTSTAMP:20260420T222908
CREATED:20260209T152238Z
LAST-MODIFIED:20260209T152238Z
UID:2115-1778716800-1779062399@psv-mitte.de
SUMMARY:Teschner-Gedenkturnier 2026
DESCRIPTION:
URL:http://psv-mitte.de/event/teschner-gedenkturnier-2026/
END:VEVENT
BEGIN:VEVENT
DTSTART;VALUE=DATE:20260516
DTEND;VALUE=DATE:20260518
DTSTAMP:20260420T222908
CREATED:20260310T052317Z
LAST-MODIFIED:20260310T052317Z
UID:2140-1778889600-1779062399@psv-mitte.de
SUMMARY:SV 1892 Frühlingsturnier
DESCRIPTION:
URL:http://psv-mitte.de/event/sv-1892-fruehlingsturnier/
LOCATION:Ruhland
END:VEVENT
BEGIN:VEVENT
DTSTART;TZID=Europe/Berlin:20260516T093000
DTEND;TZID=Europe/Berlin:20260516T170000
DTSTAMP:20260420T222908
CREATED:20260330T120455Z
LAST-MODIFIED:20260330T120455Z
UID:2194-1778923800-1778950800@psv-mitte.de
SUMMARY:6. Rotationsturnier
DESCRIPTION:
URL:http://psv-mitte.de/event/6-rotationsturnier/
LOCATION:Rüdersdorf
END:VEVENT
BEGIN:VEVENT
DTSTART;VALUE=DATE:20260521
DTEND;VALUE=DATE:20260703
DTSTAMP:20260420T222908
CREATED:20260330T123429Z
LAST-MODIFIED:20260330T123429Z
UID:2203-1779321600-1783036799@psv-mitte.de
SUMMARY:10. Harald-Lieb-Gedenkturnier 2026
DESCRIPTION:
URL:http://psv-mitte.de/event/10-harald-lieb-gedenkturnier-2026/
LOCATION:Zehlendorf
END:VEVENT
BEGIN:VEVENT
DTSTART;TZID=Europe/Berlin:20260522T170000
DTEND;TZID=Europe/Berlin:20260522T183000
DTSTAMP:20260420T222908
CREATED:20260330T115409Z
LAST-MODIFIED:20260330T115409Z
UID:2189-1779469200-1779474600@psv-mitte.de
SUMMARY:Jugendtraining
DESCRIPTION:
URL:http://psv-mitte.de/event/jugendtraining-5/
LOCATION:Potsdam
END:VEVENT
BEGIN:VEVENT
DTSTART;TZID=Europe/Berlin:20260522T180000
DTEND;TZID=Europe/Berlin:20260522T220000
DTSTAMP:20260420T222908
CREATED:20260330T115505Z
LAST-MODIFIED:20260330T115505Z
UID:2191-1779472800-1779487200@psv-mitte.de
SUMMARY:Spieleabend für Alle
DESCRIPTION:
URL:http://psv-mitte.de/event/spieleabend-fuer-alle-5/
LOCATION:Potsdam
END:VEVENT
BEGIN:VEVENT
DTSTART;TZID=Europe/Berlin:20260529T170000
DTEND;TZID=Europe/Berlin:20260529T183000
DTSTAMP:20260420T222908
CREATED:20260330T115005Z
LAST-MODIFIED:20260330T115558Z
UID:2185-1780074000-1780079400@psv-mitte.de
SUMMARY:Jugendtraining
DESCRIPTION:
URL:http://psv-mitte.de/event/jugendtraining-4/
LOCATION:Potsdam
END:VEVENT
BEGIN:VEVENT
DTSTART;TZID=Europe/Berlin:20260529T180000
DTEND;TZID=Europe/Berlin:20260529T220000
DTSTAMP:20260420T222908
CREATED:20260330T115051Z
LAST-MODIFIED:20260330T115655Z
UID:2187-1780077600-1780092000@psv-mitte.de
SUMMARY:Blitzturnier für Mitglieder und Gäste
DESCRIPTION:
URL:http://psv-mitte.de/event/spieleabend-fuer-alle-4/
LOCATION:Potsdam
END:VEVENT
BEGIN:VEVENT
DTSTART;TZID=Europe/Berlin:20260606T090000
DTEND;TZID=Europe/Berlin:20260606T170000
DTSTAMP:20260420T222908
CREATED:20260330T122928Z
LAST-MODIFIED:20260330T122928Z
UID:2201-1780736400-1780765200@psv-mitte.de
SUMMARY:Landeseinzelmeisterschaft im Schnellschach
DESCRIPTION:
URL:http://psv-mitte.de/event/landeseinzelmeisterschaft-im-schnellschach/
LOCATION:Trebbin
END:VEVENT
BEGIN:VEVENT
DTSTART;TZID=Europe/Berlin:20260606T090000
DTEND;TZID=Europe/Berlin:20260606T190000
DTSTAMP:20260420T222908
CREATED:20260330T122353Z
LAST-MODIFIED:20260330T122353Z
UID:2198-1780736400-1780772400@psv-mitte.de
SUMMARY:Frühlingsturnier in Briesen (Turnierschach)
DESCRIPTION:
URL:http://psv-mitte.de/event/fruehlingsturnier-in-briesen-turnierschach/
LOCATION:Briesen
END:VEVENT
BEGIN:VEVENT
DTSTART;TZID=Europe/Berlin:20260705T093000
DTEND;TZID=Europe/Berlin:20260705T170000
DTSTAMP:20260420T222908
CREATED:20260330T122122Z
LAST-MODIFIED:20260330T122122Z
UID:2196-1783243800-1783270800@psv-mitte.de
SUMMARY:29. Emanuel - Lasker - Schachturnier (Schnellschach)
DESCRIPTION:
URL:http://psv-mitte.de/event/29-emanuel-lasker-schachturnier-schnellschach/
END:VEVENT
END:VCALENDAR