BEGIN:VCALENDAR
VERSION:2.0
PRODID:-//Potsdamer Schachverein Mitte e.V. - ECPv6.15.13//NONSGML v1.0//EN
CALSCALE:GREGORIAN
METHOD:PUBLISH
X-WR-CALNAME:Potsdamer Schachverein Mitte e.V.
X-ORIGINAL-URL:http://psv-mitte.de
X-WR-CALDESC:Veranstaltungen für Potsdamer Schachverein Mitte e.V.
REFRESH-INTERVAL;VALUE=DURATION:PT1H
X-Robots-Tag:noindex
X-PUBLISHED-TTL:PT1H
BEGIN:VTIMEZONE
TZID:Europe/Berlin
BEGIN:DAYLIGHT
TZOFFSETFROM:+0100
TZOFFSETTO:+0200
TZNAME:CEST
DTSTART:20250330T010000
END:DAYLIGHT
BEGIN:STANDARD
TZOFFSETFROM:+0200
TZOFFSETTO:+0100
TZNAME:CET
DTSTART:20251026T010000
END:STANDARD
BEGIN:DAYLIGHT
TZOFFSETFROM:+0100
TZOFFSETTO:+0200
TZNAME:CEST
DTSTART:20260329T010000
END:DAYLIGHT
BEGIN:STANDARD
TZOFFSETFROM:+0200
TZOFFSETTO:+0100
TZNAME:CET
DTSTART:20261025T010000
END:STANDARD
BEGIN:DAYLIGHT
TZOFFSETFROM:+0100
TZOFFSETTO:+0200
TZNAME:CEST
DTSTART:20270328T010000
END:DAYLIGHT
BEGIN:STANDARD
TZOFFSETFROM:+0200
TZOFFSETTO:+0100
TZNAME:CET
DTSTART:20271031T010000
END:STANDARD
END:VTIMEZONE
BEGIN:VEVENT
DTSTART;VALUE=DATE:20260408
DTEND;VALUE=DATE:20260413
DTSTAMP:20260419T172039
CREATED:20260110T120810Z
LAST-MODIFIED:20260110T121004Z
UID:1989-1775606400-1776038399@psv-mitte.de
SUMMARY:Einzelmeisterschaft Jugend
DESCRIPTION:
URL:http://psv-mitte.de/event/einzelmeisterschaft-jugend/
LOCATION:Landgut Stöber
END:VEVENT
BEGIN:VEVENT
DTSTART;TZID=Europe/Berlin:20260410T180000
DTEND;TZID=Europe/Berlin:20260410T220000
DTSTAMP:20260419T172039
CREATED:20260330T114352Z
LAST-MODIFIED:20260330T114352Z
UID:2171-1775844000-1775858400@psv-mitte.de
SUMMARY:Spieleabend für Alle
DESCRIPTION:
URL:http://psv-mitte.de/event/spieleabend-fuer-alle/
LOCATION:Potsdam
END:VEVENT
END:VCALENDAR