BEGIN:VCALENDAR
VERSION:2.0
PRODID:-//Potsdamer Schachverein Mitte e.V. - ECPv6.15.13//NONSGML v1.0//EN
CALSCALE:GREGORIAN
METHOD:PUBLISH
X-ORIGINAL-URL:http://psv-mitte.de
X-WR-CALDESC:Veranstaltungen für Potsdamer Schachverein Mitte e.V.
REFRESH-INTERVAL;VALUE=DURATION:PT1H
X-Robots-Tag:noindex
X-PUBLISHED-TTL:PT1H
BEGIN:VTIMEZONE
TZID:Europe/Berlin
BEGIN:DAYLIGHT
TZOFFSETFROM:+0100
TZOFFSETTO:+0200
TZNAME:CEST
DTSTART:20250330T010000
END:DAYLIGHT
BEGIN:STANDARD
TZOFFSETFROM:+0200
TZOFFSETTO:+0100
TZNAME:CET
DTSTART:20251026T010000
END:STANDARD
BEGIN:DAYLIGHT
TZOFFSETFROM:+0100
TZOFFSETTO:+0200
TZNAME:CEST
DTSTART:20260329T010000
END:DAYLIGHT
BEGIN:STANDARD
TZOFFSETFROM:+0200
TZOFFSETTO:+0100
TZNAME:CET
DTSTART:20261025T010000
END:STANDARD
BEGIN:DAYLIGHT
TZOFFSETFROM:+0100
TZOFFSETTO:+0200
TZNAME:CEST
DTSTART:20270328T010000
END:DAYLIGHT
BEGIN:STANDARD
TZOFFSETFROM:+0200
TZOFFSETTO:+0100
TZNAME:CET
DTSTART:20271031T010000
END:STANDARD
END:VTIMEZONE
BEGIN:VEVENT
DTSTART;TZID=Europe/Berlin:20260213T150000
DTEND;TZID=Europe/Berlin:20260213T190000
DTSTAMP:20260420T112704
CREATED:20260117T153345Z
LAST-MODIFIED:20260117T153345Z
UID:2045-1770994800-1771009200@psv-mitte.de
SUMMARY:Winterturnier für Kinder und Jugendliche bis 21 Jahre
DESCRIPTION:
URL:http://psv-mitte.de/event/winterturnier-fuer-kinder-und-jugendliche-bis-21-jahre/
END:VEVENT
BEGIN:VEVENT
DTSTART;TZID=Europe/Berlin:20260213T170000
DTEND;TZID=Europe/Berlin:20260213T180000
DTSTAMP:20260420T112704
CREATED:20260110T083432Z
LAST-MODIFIED:20260110T083432Z
UID:1970-1771002000-1771005600@psv-mitte.de
SUMMARY:Kinder- und Jugendtraining
DESCRIPTION:
URL:http://psv-mitte.de/event/kinder-und-jugendtraining-5/
END:VEVENT
BEGIN:VEVENT
DTSTART;TZID=Europe/Berlin:20260213T180000
DTEND;TZID=Europe/Berlin:20260213T220000
DTSTAMP:20260420T112704
CREATED:20260110T084259Z
LAST-MODIFIED:20260110T084259Z
UID:1978-1771005600-1771020000@psv-mitte.de
SUMMARY:Vereinsabend
DESCRIPTION:
URL:http://psv-mitte.de/event/vereinsabend-5/
END:VEVENT
END:VCALENDAR