BEGIN:VCALENDAR
VERSION:2.0
PRODID:-//Potsdamer Schachverein Mitte e.V. - ECPv6.15.13//NONSGML v1.0//EN
CALSCALE:GREGORIAN
METHOD:PUBLISH
X-ORIGINAL-URL:http://psv-mitte.de
X-WR-CALDESC:Veranstaltungen für Potsdamer Schachverein Mitte e.V.
REFRESH-INTERVAL;VALUE=DURATION:PT1H
X-Robots-Tag:noindex
X-PUBLISHED-TTL:PT1H
BEGIN:VTIMEZONE
TZID:Europe/Berlin
BEGIN:DAYLIGHT
TZOFFSETFROM:+0100
TZOFFSETTO:+0200
TZNAME:CEST
DTSTART:20250330T010000
END:DAYLIGHT
BEGIN:STANDARD
TZOFFSETFROM:+0200
TZOFFSETTO:+0100
TZNAME:CET
DTSTART:20251026T010000
END:STANDARD
BEGIN:DAYLIGHT
TZOFFSETFROM:+0100
TZOFFSETTO:+0200
TZNAME:CEST
DTSTART:20260329T010000
END:DAYLIGHT
BEGIN:STANDARD
TZOFFSETFROM:+0200
TZOFFSETTO:+0100
TZNAME:CET
DTSTART:20261025T010000
END:STANDARD
BEGIN:DAYLIGHT
TZOFFSETFROM:+0100
TZOFFSETTO:+0200
TZNAME:CEST
DTSTART:20270328T010000
END:DAYLIGHT
BEGIN:STANDARD
TZOFFSETFROM:+0200
TZOFFSETTO:+0100
TZNAME:CET
DTSTART:20271031T010000
END:STANDARD
END:VTIMEZONE
BEGIN:VEVENT
DTSTART;TZID=Europe/Berlin:20260130T143000
DTEND;TZID=Europe/Berlin:20260130T190000
DTSTAMP:20260421T105025
CREATED:20260117T152830Z
LAST-MODIFIED:20260117T152927Z
UID:2040-1769783400-1769799600@psv-mitte.de
SUMMARY:Winterturnier für Kinder Klassen 1-6
DESCRIPTION:
URL:http://psv-mitte.de/event/winterturnier-fuer-kinder-klassen-1-6/
LOCATION:Potsdam
END:VEVENT
BEGIN:VEVENT
DTSTART;TZID=Europe/Berlin:20260130T170000
DTEND;TZID=Europe/Berlin:20260130T180000
DTSTAMP:20260421T105025
CREATED:20260106T165607Z
LAST-MODIFIED:20260106T165607Z
UID:1948-1769792400-1769796000@psv-mitte.de
SUMMARY:Kinder- und Jugendtraining
DESCRIPTION:
URL:http://psv-mitte.de/event/kinder-und-jugendtraining-4/
END:VEVENT
BEGIN:VEVENT
DTSTART;TZID=Europe/Berlin:20260130T183000
DTEND;TZID=Europe/Berlin:20260130T203000
DTSTAMP:20260421T105025
CREATED:20260106T165700Z
LAST-MODIFIED:20260106T165700Z
UID:1950-1769797800-1769805000@psv-mitte.de
SUMMARY:Blitzturnier
DESCRIPTION:
URL:http://psv-mitte.de/event/blitzturnier/
END:VEVENT
END:VCALENDAR